BEGIN:VCALENDAR
VERSION:2.0
PRODID:-//https://takethedate.it///NONSGML kigkonsult.se iCalcreator 2.10.15//
METHOD:PUBLISH
BEGIN:VEVENT
UID:20260423T130904CEST-65058tNMFo@https://takethedate.it/
DTSTAMP:20260423T110904Z
DESCRIPTION:\nGiovedì 23 aprile alle ore 10.00\, presso la Sala Riunioni 1 
 dell’Edificio Marco Polo\, Circonvallazione Tiburtina 4\, nella cornice de
 lle attività didattiche del curriculum in Studi arabi\, iranici e islamici
  del Dottorato in Civiltà dell’Asia e dell’Africa\, si terrà la presentazi
 one del volume Storia dell'Iran. Rivoluzione\, guerra e resistenza 1979-20
 25 (Laterza 2026) di Paola Rivetti (Dublin City University).Oggi più che m
 ai l’Iran si trova al centro della geopolitica mondiale\, ma ancora pochi 
 sono gli strumenti che aiutano a comprenderne davvero l’articolata storia 
 recente e la complessa natura politica e sociale della Repubblica Islamica
 .Alla presenza dell’autrice\, discutono il volume e l’attualità Mario Casa
 ri e Laura Guazzone (Sapienza Università di Roma).L’incontro si svolgerà i
 n presenza ed è aperto a tutti gli interessati.\n\n\ncoordinamento scienti
 fico\n https://takethedate.it/cultura/Eventi/52383-iran-oggi.html
DTSTART:20260423T080000Z
DTEND:20260423T100000Z
LOCATION:Roma (Roma)
SUMMARY:Iran\, oggi
URL:https://takethedate.it/cultura/Eventi/52383-iran-oggi.html
END:VEVENT
END:VCALENDAR
