BEGIN:VCALENDAR
VERSION:2.0
PRODID:-//https://takethedate.it///NONSGML kigkonsult.se iCalcreator 2.10.15//
METHOD:PUBLISH
BEGIN:VEVENT
UID:20260423T115602CEST-1648oWkGgr@https://takethedate.it/
DTSTAMP:20260423T095602Z
DESCRIPTION:'L'altra intelligenza. Piante e AI fra etica\, semiotica e poli
 tica'\, organizzato da Gianfranco Pellegrino e Paolo Peverini\, in program
 ma il 21 aprile presso la LUISS di Roma.L'evento esplora le ipotesi emerge
 nti sulle forme di intelligenza non umana – artificiale e naturale\, dagli
  androidi e dalle macchine agli algoritmi e alle reti neurali\, fino agli 
 animali e alle piante – attraverso il doppio sguardo della semiotica e del
 l'etica. Mettendo in dialogo queste due prospettive disciplinari\, l'inizi
 ativa mira a favorire uno scambio produttivo e forme significative di ibri
 dazione interdisciplinare. Il workshop ospiterà sei relatori invitati\, ci
 ascuno affiancato da un discussant. L'evento è aperto agli studenti e al p
 ubblico accademico\, offrendo un'occasione di partecipazione al dibattito 
 contemporaneo all'incrocio tra semiotica\, tecnologia\, filosofia e scienz
 e della vita. https://takethedate.it/cultura/Eventi/52372-laltra-intellige
 nza-piante-e-ai-fra-etica-semiotica-e-politica.html
DTSTART:20260421T073000Z
DTEND:20260421T103000Z
LOCATION:Roma (Roma)
SUMMARY:L'altra intelligenza. Piante e AI fra etica\, semiotica e politica
URL:https://takethedate.it/cultura/Eventi/52372-laltra-intelligenza-piante-
 e-ai-fra-etica-semiotica-e-politica.html
END:VEVENT
END:VCALENDAR
