BEGIN:VCALENDAR
VERSION:2.0
PRODID:-//https://takethedate.it///NONSGML kigkonsult.se iCalcreator 2.10.15//
METHOD:PUBLISH
BEGIN:VEVENT
UID:20260423T115742CEST-5229vcI1fu@https://takethedate.it/
DTSTAMP:20260423T095742Z
DESCRIPTION:Alle ore 15\, presso la Sala della Regina di Montecitorio si sv
 olge la presentazione del libro 'Carlo Casini\, discorsi politici e parlam
 entari'. Saluto del Presidente della Camera\, Lorenzo Fontana.  https://ta
 kethedate.it/cultura/Eventi/52361-carlo-casini-discorsi-politici-e-parlame
 ntari-saluto-di-fontana.html
DTSTART:20260421T130000Z
DTEND:20260421T160000Z
LOCATION:Roma (Roma)
SUMMARY:Carlo Casini\, discorsi politici e parlamentari - Saluto di Fontana
URL:https://takethedate.it/cultura/Eventi/52361-carlo-casini-discorsi-polit
 ici-e-parlamentari-saluto-di-fontana.html
END:VEVENT
END:VCALENDAR
