BEGIN:VCALENDAR
VERSION:2.0
PRODID:-//https://takethedate.it///NONSGML kigkonsult.se iCalcreator 2.10.15//
METHOD:PUBLISH
BEGIN:VEVENT
UID:20260423T115305CEST-5655Fik8pr@https://takethedate.it/
DTSTAMP:20260423T095305Z
DESCRIPTION:PROGRAMMA\n\n Influencer La nuova frontiera dei media (\n https
 ://takethedate.it/cultura/Eventi/52286-presentazione-del-libro-influencer-
 la-nuova-frontiera-dei-media.html
DTSTART:20260422T150000Z
DTEND:20260422T180000Z
LOCATION:Roma (Roma)
SUMMARY:Presentazione del libro: 'Influencer\, la nuova frontiera dei media
 '
URL:https://takethedate.it/cultura/Eventi/52286-presentazione-del-libro-inf
 luencer-la-nuova-frontiera-dei-media.html
END:VEVENT
END:VCALENDAR
