BEGIN:VCALENDAR
VERSION:2.0
PRODID:-//https://takethedate.it///NONSGML kigkonsult.se iCalcreator 2.10.15//
METHOD:PUBLISH
BEGIN:VEVENT
UID:20260423T131145CEST-60747txw0p@https://takethedate.it/
DTSTAMP:20260423T111145Z
DESCRIPTION:GIOVEDÌ 23 APRILE 2026 ore 12:30\, aula A0\, Polo Didattico del
 le Piagge\nDiscussione del libro DEMOCRAZIA ADDIO di Lorenzo De Sio Corso 
 di Scienza Politica - Prof. Massimiliano Andretta\nSaluti istituzionali An
 drea Borghini Direttore Dipartimento di Scienze politiche\nIntroduce e mod
 era Massimiliano Andretta\nNe discutono con l'autore Alessandro Volpi Tomm
 aso Greco https://takethedate.it/cultura/Eventi/52249-discussione-del-libr
 o-democrazia-addio.html
DTSTART:20260423T103000Z
DTEND:20260423T123000Z
LOCATION:Pisa (Pisa)
SUMMARY:Discussione del libro: 'Democrazia addio'
URL:https://takethedate.it/cultura/Eventi/52249-discussione-del-libro-democ
 razia-addio.html
END:VEVENT
END:VCALENDAR
