BEGIN:VCALENDAR
VERSION:2.0
PRODID:-//https://takethedate.it///NONSGML kigkonsult.se iCalcreator 2.10.15//
METHOD:PUBLISH
BEGIN:VEVENT
UID:20260421T041820CEST-86528xpFvB@https://takethedate.it/
DTSTAMP:20260421T021820Z
DESCRIPTION:Sla - Conferenza stampa di Ilenia Malavasi\nMartedì 21 Aprile 2
 026 ore 11:30\n \n  https://takethedate.it/archivio/Eventi/52408-sla-confe
 renza-stampa-di-ilenia-malavasi.html
DTSTART:20260420T093000Z
DTEND:20260420T113000Z
LOCATION:Roma (Roma)
SUMMARY:Sla - Conferenza stampa di Ilenia Malavasi
URL:https://takethedate.it/archivio/Eventi/52408-sla-conferenza-stampa-di-i
 lenia-malavasi.html
END:VEVENT
END:VCALENDAR
