BEGIN:VCALENDAR
VERSION:2.0
PRODID:-//https://takethedate.it///NONSGML kigkonsult.se iCalcreator 2.10.15//
METHOD:PUBLISH
BEGIN:VEVENT
UID:20260421T024502CEST-8759R0tZTV@https://takethedate.it/
DTSTAMP:20260421T004502Z
DESCRIPTION:  https://takethedate.it/archivio/Eventi/52364-chiesa-e-stato-i
 n-brasile-di-jair-santos-conferenza-stampa-di-fabio-porta.html
DTSTART:20260420T153000Z
DTEND:20260420T183000Z
LOCATION:Roma (Roma)
SUMMARY:Chiesa e Stato in Brasile di Jair Santos - Conferenza stampa di Fab
 io Porta
URL:https://takethedate.it/archivio/Eventi/52364-chiesa-e-stato-in-brasile-
 di-jair-santos-conferenza-stampa-di-fabio-porta.html
END:VEVENT
END:VCALENDAR
