BEGIN:VCALENDAR
VERSION:2.0
PRODID:-//https://takethedate.it///NONSGML kigkonsult.se iCalcreator 2.10.15//
METHOD:PUBLISH
BEGIN:VEVENT
UID:20260421T041942CEST-6525GijvhC@https://takethedate.it/
DTSTAMP:20260421T021942Z
DESCRIPTION:  https://takethedate.it/archivio/Eventi/52362-4-20-la-cannabis
 -alla-camera-e-il-decreto-sicurezza-conferenza-stampa-di-riccardo-magi.htm
 l
DTSTART:20260420T110000Z
DTEND:20260420T140000Z
LOCATION:Roma (Roma)
SUMMARY:4.20 la cannabis alla Camera e il decreto Sicurezza - Conferenza st
 ampa di Riccardo Magi
URL:https://takethedate.it/archivio/Eventi/52362-4-20-la-cannabis-alla-came
 ra-e-il-decreto-sicurezza-conferenza-stampa-di-riccardo-magi.html
END:VEVENT
END:VCALENDAR
