BEGIN:VCALENDAR
VERSION:2.0
PRODID:-//https://takethedate.it///NONSGML kigkonsult.se iCalcreator 2.10.15//
METHOD:PUBLISH
BEGIN:VEVENT
UID:20260421T041548CEST-6112E7MGHS@https://takethedate.it/
DTSTAMP:20260421T021548Z
DESCRIPTION:Roma: l'Universita' Luiss ospita una nuova edizione del TEDx\, 
 dedicata al tema 'Lasciare Spazio'. Ore 15\,00. Partecipa\, tra gli altri\
 , Paolo Benanti\, docente Luiss. Presso il Campus Luiss di viale Romania 3
 2. https://takethedate.it/archivio/Eventi/52355-tedx-luiss-lasciare-spazio
 .html
DTSTART:20260420T130000Z
DTEND:20260420T160000Z
LOCATION:Roma (Roma)
SUMMARY:TEDx Luiss - Lasciare Spazio
URL:https://takethedate.it/archivio/Eventi/52355-tedx-luiss-lasciare-spazio
 .html
END:VEVENT
END:VCALENDAR
