BEGIN:VCALENDAR
VERSION:2.0
PRODID:-//https://takethedate.it///NONSGML kigkonsult.se iCalcreator 2.10.15//
METHOD:PUBLISH
BEGIN:VEVENT
UID:20260421T055943CEST-027909HhND@https://takethedate.it/
DTSTAMP:20260421T035943Z
DESCRIPTION:Milano: presentazione del primo rapporto dedicato alle societa'
  benefit sul territorio lombardo. Ore 12\,00. Presso Palazzo Lombardia. ht
 tps://takethedate.it/archivio/Eventi/52353-presentazione-del-primo-rapport
 o-dedicato-alle-societa-benefit-sul-territorio-lombardo.html
DTSTART:20260420T100000Z
DTEND:20260420T120000Z
LOCATION:Milano (Milano)
SUMMARY:Presentazione del primo rapporto dedicato alle società benefit sul 
 territorio lombardo
URL:https://takethedate.it/archivio/Eventi/52353-presentazione-del-primo-ra
 pporto-dedicato-alle-societa-benefit-sul-territorio-lombardo.html
END:VEVENT
END:VCALENDAR
