BEGIN:VCALENDAR
VERSION:2.0
PRODID:-//https://takethedate.it///NONSGML kigkonsult.se iCalcreator 2.10.15//
METHOD:PUBLISH
BEGIN:VEVENT
UID:20260421T024537CEST-42198gnxCn@https://takethedate.it/
DTSTAMP:20260421T004537Z
DESCRIPTION:Cerimonia di apertura delle celebrazioni del centenario dell'Is
 tituto Internazionale per l'unificazione del Diritto Privato (UNIDROIT) ht
 tps://takethedate.it/archivio/Eventi/52319-cerimonia-di-apertura-delle-cel
 ebrazioni-del-centenario-dellistituto-internazionale-per-lunificazione-del
 -diritto-privato-unidroit.html
DTSTART:20260420T160000Z
DTEND:20260420T180000Z
LOCATION:Roma (Roma)
SUMMARY:Cerimonia di apertura delle celebrazioni del centenario dell'Istitu
 to Internazionale per l'unificazione del Diritto Privato (UNIDROIT)
URL:https://takethedate.it/archivio/Eventi/52319-cerimonia-di-apertura-dell
 e-celebrazioni-del-centenario-dellistituto-internazionale-per-lunificazion
 e-del-diritto-privato-unidroit.html
END:VEVENT
END:VCALENDAR
