BEGIN:VCALENDAR
VERSION:2.0
PRODID:-//https://takethedate.it///NONSGML kigkonsult.se iCalcreator 2.10.15//
METHOD:PUBLISH
BEGIN:VEVENT
UID:20260421T024424CEST-9873a1duwG@https://takethedate.it/
DTSTAMP:20260421T004424Z
DESCRIPTION:Presentazione del romanzo “Un giornalista d’inchiesta”\, del ma
 gistrato scrittore Fabio Pilato. Su iniziativa della senatrice Daniela Sbr
 ollini https://takethedate.it/archivio/Eventi/52310-presentazione-del-roma
 nzo-un-giornalista-dinchiesta.html
DTSTART:20260420T153000Z
DTEND:20260420T173000Z
LOCATION:Roma (Roma)
SUMMARY:Presentazione del romanzo “Un giornalista d’inchiesta”
URL:https://takethedate.it/archivio/Eventi/52310-presentazione-del-romanzo-
 un-giornalista-dinchiesta.html
END:VEVENT
END:VCALENDAR
