BEGIN:VCALENDAR
VERSION:2.0
PRODID:-//https://takethedate.it///NONSGML kigkonsult.se iCalcreator 2.10.15//
METHOD:PUBLISH
BEGIN:VEVENT
UID:20260421T042153CEST-3747u64b65@https://takethedate.it/
DTSTAMP:20260421T022153Z
DESCRIPTION:Presentazione del libro “The Economic impact of the South China
  Sea disputes”. Su iniziativa del senatore Giuliomaria Terzi di Sant’Agata
  https://takethedate.it/archivio/Eventi/52309-presentazione-del-libro-the-
 economic-impact-of-the-south-china-sea-disputes.html
DTSTART:20260420T140000Z
DTEND:20260420T160000Z
LOCATION:Roma (Roma)
SUMMARY:Presentazione del libro “The Economic impact of the South China Sea
  disputes”
URL:https://takethedate.it/archivio/Eventi/52309-presentazione-del-libro-th
 e-economic-impact-of-the-south-china-sea-disputes.html
END:VEVENT
END:VCALENDAR
