BEGIN:VCALENDAR
VERSION:2.0
PRODID:-//https://takethedate.it///NONSGML kigkonsult.se iCalcreator 2.10.15//
METHOD:PUBLISH
BEGIN:VEVENT
UID:20260421T041706CEST-4959aUuXv2@https://takethedate.it/
DTSTAMP:20260421T021706Z
DESCRIPTION:Fuori dall’era dei fossili. L’alleanza italiana in cammino vers
 o la conferenza internazionale di Santa Marta per il trattato di non proli
 ferazione di petrolio\, gas e carbone. Su iniziativa del senatore Peppe De
  Cristofaro https://takethedate.it/archivio/Eventi/52306-fuori-dallera-dei
 -fossili.html
DTSTART:20260420T090000Z
DTEND:20260420T110000Z
LOCATION:Roma (Roma)
SUMMARY:Fuori dall’era dei fossili
URL:https://takethedate.it/archivio/Eventi/52306-fuori-dallera-dei-fossili.
 html
END:VEVENT
END:VCALENDAR
