BEGIN:VCALENDAR
VERSION:2.0
PRODID:-//https://takethedate.it///NONSGML kigkonsult.se iCalcreator 2.10.15//
METHOD:PUBLISH
BEGIN:VEVENT
UID:20260421T041713CEST-4849B2b16R@https://takethedate.it/
DTSTAMP:20260421T021713Z
DESCRIPTION:Patrimonio culturale e storico italiano. L’azione dei Lions. Su
  iniziativa di Lions International https://takethedate.it/archivio/Eventi/
 52305-patrimonio-culturale-e-storico-italiano.html
DTSTART:20260420T071500Z
DTEND:20260420T101500Z
LOCATION:Roma (Roma)
SUMMARY:Patrimonio culturale e storico italiano
URL:https://takethedate.it/archivio/Eventi/52305-patrimonio-culturale-e-sto
 rico-italiano.html
END:VEVENT
END:VCALENDAR
