BEGIN:VCALENDAR
VERSION:2.0
PRODID:-//https://takethedate.it///NONSGML kigkonsult.se iCalcreator 2.10.15//
METHOD:PUBLISH
BEGIN:VEVENT
UID:20260421T041832CEST-7865pU328f@https://takethedate.it/
DTSTAMP:20260421T021832Z
DESCRIPTION:Lunedì 20 aprile\, dalle ore 15\, si svolgerà l'evento La sfida
  del digitale nel dialogo giuridico italo-spagnolo\, presso la Sala Conveg
 ni di Universitas Mercatorum.\nL’evento esplorerà il ruolo delle tecnologi
 e digitali nel trasformare il dialogo giuridico tra Italia e Spagna\, mett
 endo a confronto esperienze\, normative e prospettive comuni. Saranno appr
 ofondite le opportunità e le criticità legate all’innovazione digitale nei
  sistemi giuridici dei due Paesi.\nPer partecipare all'evento è possibile 
 inviare una mail all'indirizzo adesioni.eventi@unimercatorum.it\nClicca QU
 I per seguire l'evento da remoto https://takethedate.it/archivio/Eventi/52
 303-la-sfida-del-digitale-nel-dialogo-giuridico-italo-spagnolo.html
DTSTART:20260420T130000Z
DTEND:20260420T160000Z
LOCATION:Roma (Roma)
SUMMARY:La sfida del digitale nel dialogo giuridico italo-spagnolo
URL:https://takethedate.it/archivio/Eventi/52303-la-sfida-del-digitale-nel-
 dialogo-giuridico-italo-spagnolo.html
END:VEVENT
END:VCALENDAR
