BEGIN:VCALENDAR
VERSION:2.0
PRODID:-//https://takethedate.it///NONSGML kigkonsult.se iCalcreator 2.10.15//
METHOD:PUBLISH
BEGIN:VEVENT
UID:20260421T041943CEST-3084HiVlim@https://takethedate.it/
DTSTAMP:20260421T021943Z
DESCRIPTION:\n\nBack Home - Il viaggio dei ragazzi di Juppiter alla ricerca
  di sguardi nuovi - Lunedì alle 16 diretta webtv\n\nLunedì 20 aprile\, all
 e ore 16\, presso la Sala della Regina di Montecitorio si svolge la proiez
 ione del docufilm 'Back Home - Il viaggio dei ragazzi di Juppiter alla ric
 erca di sguardi nuovi'. Saluto del segretario di presidenza\, Francesco Ba
 ttistoni. Il dibattito viene trasmesso in diretta webtv.\n \nIn allegato i
 l programma\n\n\n\n\n\n\nProgramma\n\n\n https://takethedate.it/archivio/E
 venti/52296-back-home-viaggio-dei-ragazzi-di-juppiter-alla-ricerca-di-sgua
 rdi-nuovi.html
DTSTART:20260420T140000Z
DTEND:20260420T170000Z
LOCATION:evento online  ()
SUMMARY:Back Home : viaggio dei ragazzi di Juppiter alla ricerca di sguardi
  nuovi 
URL:https://takethedate.it/archivio/Eventi/52296-back-home-viaggio-dei-raga
 zzi-di-juppiter-alla-ricerca-di-sguardi-nuovi.html
END:VEVENT
END:VCALENDAR
