BEGIN:VCALENDAR
VERSION:2.0
PRODID:-//https://takethedate.it///NONSGML kigkonsult.se iCalcreator 2.10.15//
METHOD:PUBLISH
BEGIN:VEVENT
UID:20260421T060121CEST-7507XHdTIs@https://takethedate.it/
DTSTAMP:20260421T040121Z
DESCRIPTION:Aree di crisi ambientale: impatti dell'inquinamento sulla salut
 e - Prevenzione e sviluppi legislativi - Lunedì alle 11 diretta webtv\n\nL
 unedì 20 aprile\, alle ore 11\, presso la Sala Matteotti di Palazzo Theodo
 li Bianchelli si svolge il convegno 'Aree di crisi ambientale: impatti del
 l'inquinamento sulla salute - Prevenzione e sviluppi legislativi'. Saluto 
 del segretario di presidenza della Camera\, Filiberto Zaratti. \n https://
 takethedate.it/archivio/Eventi/52295-aree-di-crisi-ambientale-impatti-dell
 inquinamento-sulla-salute-prevenzione-e-sviluppi-legislativi.html
DTSTART:20260420T090000Z
DTEND:20260420T120000Z
LOCATION:evento online  ()
SUMMARY:Aree di crisi ambientale: impatti dell'inquinamento sulla salute - 
 Prevenzione e sviluppi legislativi
URL:https://takethedate.it/archivio/Eventi/52295-aree-di-crisi-ambientale-i
 mpatti-dellinquinamento-sulla-salute-prevenzione-e-sviluppi-legislativi.ht
 ml
END:VEVENT
END:VCALENDAR
