BEGIN:VCALENDAR
VERSION:2.0
PRODID:-//https://takethedate.it///NONSGML kigkonsult.se iCalcreator 2.10.15//
METHOD:PUBLISH
BEGIN:VEVENT
UID:20260421T024608CEST-9472gva4kW@https://takethedate.it/
DTSTAMP:20260421T004608Z
DESCRIPTION: Si svolgerà lunedì 20 aprile\, alle ore 17:30\, il webinar ded
 icato alla presentazione della ricerca “Crescere Expat – famiglie italiane
  in giro per il mondo”\, curata da Eleonora Voltolina e promossa dalla Fon
 dazione Migrantes.Il webinar\, organizzato dalla VII Commissione tematica 
 “Nuove emigrazioni\, generazioni nuove” del Consiglio Generale degli Itali
 ani all’Estero\, presieduta da Matteo Bracciali\, getta uno sguardo specif
 ico sulle famiglie italiane all’estero analizzando dimensioni educative\, 
 lavorative e identitarie della mobilità contemporanea.Al termine della pre
 sentazione è previsto un momento di confronto con i partecipanti.Questo il
  link per iscriversi al webinar: https://us02web.zoom.us/webinar/register/
 WN_BfBOc2NsRcyDg4g9hKZL8Q#/registration https://takethedate.it/archivio/Ev
 enti/52276-lemigrazione-italiana-oggi-crescere-expat-famiglie-italiane-in-
 giro-per-il-mondo.html
DTSTART:20260420T153000Z
DTEND:20260420T183000Z
LOCATION:evento online  ()
SUMMARY:L’emigrazione italiana oggi: Crescere Expat\, famiglie italiane in 
 giro per il mondo
URL:https://takethedate.it/archivio/Eventi/52276-lemigrazione-italiana-oggi
 -crescere-expat-famiglie-italiane-in-giro-per-il-mondo.html
END:VEVENT
END:VCALENDAR
