BEGIN:VCALENDAR
VERSION:2.0
PRODID:-//https://takethedate.it///NONSGML kigkonsult.se iCalcreator 2.10.15//
METHOD:PUBLISH
BEGIN:VEVENT
UID:20260421T055602CEST-44290F9VUd@https://takethedate.it/
DTSTAMP:20260421T035602Z
DESCRIPTION:Il Presidente del Consiglio\, Giorgia Meloni\, parteciperà saba
 to 18 aprile 2026 alle ore 11.00\, presso il Salone delle Fontane a Roma\,
  alla 76ª Assemblea Nazionale di Federalberghi. https://takethedate.it/arc
 hivio/Eventi/52271-assemblea-nazionale-di-federalberghi.html
DTSTART:20260418T090000Z
DTEND:20260418T120000Z
LOCATION:Roma (Roma)
SUMMARY:Assemblea Nazionale di Federalberghi
URL:https://takethedate.it/archivio/Eventi/52271-assemblea-nazionale-di-fed
 eralberghi.html
END:VEVENT
END:VCALENDAR
