BEGIN:VCALENDAR
VERSION:2.0
PRODID:-//https://takethedate.it///NONSGML kigkonsult.se iCalcreator 2.10.15//
METHOD:PUBLISH
BEGIN:VEVENT
UID:20260421T041831CEST-7253teweZk@https://takethedate.it/
DTSTAMP:20260421T021831Z
DESCRIPTION:  https://takethedate.it/archivio/Eventi/52264-presentazione-di
 sco-roberta-tondelli-conferenza-stampa-di-alessandro-caramiello.html
DTSTART:20260417T093000Z
DTEND:20260417T113000Z
LOCATION:Roma (Roma)
SUMMARY:Presentazione Disco Roberta Tondelli - Conferenza stampa di Alessan
 dro Caramiello
URL:https://takethedate.it/archivio/Eventi/52264-presentazione-disco-robert
 a-tondelli-conferenza-stampa-di-alessandro-caramiello.html
END:VEVENT
END:VCALENDAR
