BEGIN:VCALENDAR
VERSION:2.0
PRODID:-//https://takethedate.it///NONSGML kigkonsult.se iCalcreator 2.10.15//
METHOD:PUBLISH
BEGIN:VEVENT
UID:20260421T042723CEST-0625knm1nO@https://takethedate.it/
DTSTAMP:20260421T022723Z
DESCRIPTION:Siete invitati a partecipare al Convegno Il martirio della pazi
 enza - Condizione dei cristiani e libertà religiosa nella Cina di Xi Jinpi
 ng\, ideato da Luigi Trisolino.\nL’evento si terrà lunedì 20 aprile p.v. a
 lle ore 16 nel Senato della Repubblica\, presso la Sala Zuccari di Palazzo
  Giustiniani\, in Via della Dogana Vecchia 29 a Roma.\nObiettivo dell’even
 to è agitare l’opinione politico-culturale contro un regime che opprime la
  libertà dei cristiani e di tutte le religioni asservendo chiese e gruppi 
 di fedeli al partito comunista cinese.\nLuigi Trisolino\, giornalista e at
 tivista politico conservatore\, cattolico\, giurista della Presidenza del 
 Consiglio dei ministri\, è l’ideatore del convegno\, e ha motivato così qu
 esto evento nella Camera alta del Parlamento: “In Senato ho proposto quest
 o convegno al senatore Andrea De Priamo (FdI)\, sensibile al tema\, perché
  credo che sia fondamentale fare pressione per proteggere e promuovere la 
 libertà religiosa in Cina.\nCredo che il regime materialista della Cina de
 bba liberare i cattolici e tutte le fedi religiose dal soffocante monopoli
 o del partito comunista. Credo inoltre che non si debba dimenticare la dol
 ente questione tibetana”.\nInterverranno il senatore Andrea De Priamo\, gr
 azie al quale l’iniziativa ha potuto prendere piede nel Senato della Repub
 blica\, la giornalista Annalisa Terranova\, il presidente dell’Associazion
 e Italia-Tibet Claudio Cardelli\, l’attivista del direttivo Pro Vita e Fam
 iglia Francesca Romana Poleggi\, il vaticanista Nico Spuntoni.\nIl convegn
 o sarà introdotto e condotto dallo stesso Trisolino.\nVi sarà pure un vide
 omessaggio dell’eurodeputato di FdI Carlo Fidanza\, vicepresidente esecuti
 vo di ECR (European Conservatives and Reformists Party) e della Internatio
 nal Democracy Union. L’ingresso è gratuito ma bisogna prenotarsi entro poc
 hissimi giorni per essere registrati nella lista ufficiale degli invitati\
 , inviando un messaggio whatsapp al seguente numero: +39 371 15 63 127 opp
 ure inviando una e-mail ad uno dei seguenti indirizzi: [email protected]\;
  [email protected] https://takethedate.it/archivio/Eventi/52216-l-martirio
 -della-pazienza-condizione-dei-cristiani-e-liberta-religiosa-nella-cina-di
 -xi-jinping.html
DTSTART:20260420T140000Z
DTEND:20260420T170000Z
LOCATION:Roma (Roma)
SUMMARY:l martirio della pazienza - Condizione dei cristiani e libertà reli
 giosa nella Cina di Xi Jinping
URL:https://takethedate.it/archivio/Eventi/52216-l-martirio-della-pazienza-
 condizione-dei-cristiani-e-liberta-religiosa-nella-cina-di-xi-jinping.html
END:VEVENT
END:VCALENDAR
