BEGIN:VCALENDAR
VERSION:2.0
PRODID:-//https://takethedate.it///NONSGML kigkonsult.se iCalcreator 2.10.15//
METHOD:PUBLISH
BEGIN:VEVENT
UID:20260421T054621CEST-34045JU6jB@https://takethedate.it/
DTSTAMP:20260421T034621Z
DESCRIPTION:Io e l’IA. Dialogo tra arte e scienza. L’importanza dell’educaz
 ione socio-emotiva e affettiva al tempo dell’IA. Su iniziativa della senat
 rice Mariolina Castellone https://takethedate.it/archivio/Eventi/52210-io-
 e-lia.html
DTSTART:20260416T130000Z
DTEND:20260416T150000Z
LOCATION:Roma (Roma)
SUMMARY:Io e l’IA
URL:https://takethedate.it/archivio/Eventi/52210-io-e-lia.html
END:VEVENT
END:VCALENDAR
