BEGIN:VCALENDAR
VERSION:2.0
PRODID:-//https://takethedate.it///NONSGML kigkonsult.se iCalcreator 2.10.15//
METHOD:PUBLISH
BEGIN:VEVENT
UID:20260421T104256CEST-4367BNZsgv@https://takethedate.it/
DTSTAMP:20260421T084256Z
DESCRIPTION:Audizione presso la Commissione parlamentare per il contrasto d
 egli svantaggi derivanti dall'insularità https://takethedate.it/archivio/E
 venti/52125-audizione-presso-la-commissione-parlamentare-per-il-contrasto-
 degli-svantaggi-derivanti-dallinsularita.html
DTSTART:20260415T064500Z
DTEND:20260415T094500Z
LOCATION:Roma (Roma)
SUMMARY:Audizione presso la Commissione parlamentare per il contrasto degli
  svantaggi derivanti dall'insularità
URL:https://takethedate.it/archivio/Eventi/52125-audizione-presso-la-commis
 sione-parlamentare-per-il-contrasto-degli-svantaggi-derivanti-dallinsulari
 ta.html
END:VEVENT
END:VCALENDAR
