BEGIN:VCALENDAR
VERSION:2.0
PRODID:-//https://takethedate.it///NONSGML kigkonsult.se iCalcreator 2.10.15//
METHOD:PUBLISH
BEGIN:VEVENT
UID:20260421T055252CEST-4760GkEMbF@https://takethedate.it/
DTSTAMP:20260421T035252Z
DESCRIPTION:ore 16:00 - Quirinale - Incontro con il Capo di Stato Maggiore 
 dell'Aeronautica Militare e una rappresentanza dell'Aeronautica in occasio
 ne del 103° anniversario di fondazione (media ufficiali) https://taketheda
 te.it/archivio/Eventi/51855-incontro-con-il-capo-di-stato-maggiore-dellaer
 onautica-militare-e-una-rappresentanza-dellaeronautica.html
DTSTART:20260415T140000Z
DTEND:20260415T160000Z
LOCATION:Roma (Roma)
SUMMARY: Incontro con il Capo di Stato Maggiore dell'Aeronautica Militare e
  una rappresentanza dell'Aeronautica 
URL:https://takethedate.it/archivio/Eventi/51855-incontro-con-il-capo-di-st
 ato-maggiore-dellaeronautica-militare-e-una-rappresentanza-dellaeronautica
 .html
END:VEVENT
END:VCALENDAR
