BEGIN:VCALENDAR
VERSION:2.0
PRODID:-//https://takethedate.it///NONSGML kigkonsult.se iCalcreator 2.10.15//
METHOD:PUBLISH
BEGIN:VEVENT
UID:20260421T072057CEST-4833i6bWtA@https://takethedate.it/
DTSTAMP:20260421T052057Z
DESCRIPTION:  https://takethedate.it/archivio/Eventi/51195-acqua-pubblica-c
 onferenza-stampa-di-valentina-barzotti.html
DTSTART:20260317T133000Z
DTEND:20260317T153000Z
LOCATION:Roma (Roma)
SUMMARY:Acqua pubblica - Conferenza stampa di Valentina Barzotti
URL:https://takethedate.it/archivio/Eventi/51195-acqua-pubblica-conferenza-
 stampa-di-valentina-barzotti.html
END:VEVENT
END:VCALENDAR
