BEGIN:VCALENDAR
VERSION:2.0
PRODID:-//https://takethedate.it///NONSGML kigkonsult.se iCalcreator 2.10.15//
METHOD:PUBLISH
BEGIN:VEVENT
UID:20260423T102643CEST-493458gHjV@https://takethedate.it/
DTSTAMP:20260423T082643Z
DESCRIPTION:Presentazione del libro 'Lelio Colista. L'Orfeo dimenticato'\, 
 di Pasquale Imbrenda. Su iniziativa del senatore Maurizio Gasparri https:/
 /takethedate.it/archivio/Eventi/51145-presentazione-del-libro-lelio-colist
 a-lorfeo-dimenticato.html
DTSTART:20260316T150000Z
DTEND:20260316T170000Z
LOCATION:Roma (Roma)
SUMMARY:Presentazione del libro 'Lelio Colista. L'Orfeo dimenticato'
URL:https://takethedate.it/archivio/Eventi/51145-presentazione-del-libro-le
 lio-colista-lorfeo-dimenticato.html
END:VEVENT
END:VCALENDAR
