BEGIN:VCALENDAR
VERSION:2.0
PRODID:-//https://takethedate.it///NONSGML kigkonsult.se iCalcreator 2.10.15//
METHOD:PUBLISH
BEGIN:VEVENT
UID:20260423T132215CEST-4536JZPd12@https://takethedate.it/
DTSTAMP:20260423T112215Z
DESCRIPTION:Si terrà il prossimo 7 maggio 2026\, presso la Sala del Consigl
 io Comunale di Modena\, il convegno 'Il Verde che Vale: Misurare\, pianifi
 care e innovare la città di Modena'.\nL’evento rappresenta un momento impo
 rtante nel percorso di trasformazione della città\, ponendosi come sintesi
  del progetto che ha visto la Fondazione AlberItalia coinvolta nella redaz
 ione del nuovo Piano di Indirizzo per la gestione del verde e delle aree b
 oscate della città.\nCon il convegno del 7 maggio si conclude l'iniziativa
  'Il verde che vale' del Comune di Modena\, che con i primi 3 incontri del
  9\, 10 e 11 aprile ha già visto un'ampia partecipazione della cittadinanz
 a.\nI precedenti appuntamenti erano volti a sensibilizzare e coinvolgere l
 a comunità. L’incontro del 7 maggio si focalizza sul coinvolgimento di tec
 nici e professionisti che saranno i futuri protagonisti della progettazion
 e della città e delle sue aree verdi.\nCome è organizzata la giornata: La 
 giornata sarà divisa in due sessioni di approfondimento\, moderate dal Pro
 f. Marco Marchetti\, presidente di AlberItalia.\nSESSIONE MATTUTINA: Strum
 enti per la città che cambia. Dopo i saluti istituzionali del Sindaco Mass
 imo Mezzetti e dei Presidenti degli Ordini professionali (Agronomi e Fores
 tali\, Ingegneri e Architetti)\, seguiranno interventi tecnici volti a spi
 egare come ombra\, aria pulita e biodiversità siano misurabili e integrabi
 li nella pianificazione territoriale.\nLa relazione del prof. Giorgio Vacc
 hiano\, docente dell’Università di Milano e componente del Comitato Scient
 ifico di AlberItalia\, esporrà i risultati dello studio realizzato dalla F
 ondazione sul verde pubblico di Modena e presenterà l’abaco degli interven
 ti di progettazione e gestione delle aree verdi della città.\nSESSIONE POM
 ERIDIANA: Tree Cities of the World. Il pomeriggio sarà dedicato alla rete 
 globale delle 'Tree Cities Of the World”\, promossa dalla FAO e dalla Arbo
 r Day Foundation. È prevista una tavola rotonda di confronto tra le 9 citt
 à italiane che per il 2025 hanno ottenuto il riconoscimento di Tree Cities
  Of the World.\nTra queste\, proprio il Comune di Modena\, che ha raggiunt
 o questo prestigioso traguardo internazionale per il sesto anno consecutiv
 o. Modena conferma così il suo impegno nel voler essere protagonista di un
 a nuova era dell’urbanistica\, dove il verde non è più 'arredo'\, ma infra
 struttura vitale e misurabile per il futuro del territorio. https://taketh
 edate.it/agrifood/Eventi/52522-il-verde-che-vale-misurare-pianificare-e-in
 novare-la-citta-di-modena.html
DTSTART:20260507T070000Z
DTEND:20260507T110000Z
LOCATION:Modena  (Via Emilia Est\, 25\, 41121 Modena MO\, Italia)
SUMMARY:Il verde che vale: misurare\, pianificare e innovare la città di Mo
 dena
URL:https://takethedate.it/agrifood/Eventi/52522-il-verde-che-vale-misurare
 -pianificare-e-innovare-la-citta-di-modena.html
END:VEVENT
END:VCALENDAR
