BEGIN:VCALENDAR
VERSION:2.0
PRODID:-//https://takethedate.it///NONSGML kigkonsult.se iCalcreator 2.10.15//
METHOD:PUBLISH
BEGIN:VEVENT
UID:20260422T133259CEST-6826fo1UIN@https://takethedate.it/
DTSTAMP:20260422T113259Z
DESCRIPTION:Il 04 maggio 2026\, alle ore 10\, andrà in onda su Canale 3 Tos
 cana il talk 'Filiere Dop Economy: equilibrio instabile? '\, organizzato d
 a Unione Provinciale Agricoltori di Siena\, durante il quale interverrà il
  Direttore di Fondazione Qualivita\, Mauro Rosati.\nAndrà in onda lunedì 4
  maggio alle ore 10.00\, in diretta su Canale3 Toscana\, all’interno della
  rubrica “Detto&Fatto”\, l’evento “Filiere Dop Economy: equilibrio instabi
 le?” durante il quale interverrà Mauro Rosati\, Direttore della Fondazione
  Qualivita\, sul tema delle Indicazioni Geografiche.\nL’incontro si config
 urerà come una tavola rotonda dinamica\, volta a favorire un confronto dir
 etto e concreto tra i massimi esperti del settore.\nProgramma Ore 10.00 – 
 SALUTI ISTITUZIONALI Simone Lorenzo Signorini – Presidente Unione Provinci
 ale Agricoltori di Siena Mauro Rosati – Presidente Qualivita Ore 10.15 – P
 RIMA SESSIONE Costruire valore: la cassetta degli attrezzi delle filiere D
 OP Manuele Blasi – Professore in economia agraria e agroalimentare Dip.\nD
 IBAF Università degli Studi della Tuscia Vanni Marchioni – Marketing e Dev
 elopment Pitti Taste Roberto Lodovichi – Presidente Federazione Italiana C
 uochi Arezzo Ore 11 – SECONDA SESSIONE Raccontare e vendere: creare valore
  sul mercato Corrado Corsini – Presidente Pane Dop Toscano Angela Saba – P
 residente Nazionale FNP Ovicaprino Confagricoltura Luigi Fanciulli – Presi
 dente Olio Dop Terre di Siena Andrea Marrucci – Sindaco San Gimignano e Vi
 ce Presidente Provincia di Siena Modera Gianluca Cavicchioli – Direttore U
 nione Provinciale Agricoltori di Siena. https://takethedate.it/agrifood/Ev
 enti/52446-filiere-e-dop-economy-equilibrio-instabile.html
DTSTART:20260504T080000Z
DTEND:20260504T100000Z
LOCATION:evento online  ()
SUMMARY:Filiere e dop economy\, equilibrio instabile?
URL:https://takethedate.it/agrifood/Eventi/52446-filiere-e-dop-economy-equi
 librio-instabile.html
END:VEVENT
END:VCALENDAR
