BEGIN:VCALENDAR
VERSION:2.0
PRODID:-//https://takethedate.it///NONSGML kigkonsult.se iCalcreator 2.10.15//
METHOD:PUBLISH
BEGIN:VEVENT
UID:20260422T133611CEST-0132vMU7Uf@https://takethedate.it/
DTSTAMP:20260422T113611Z
DESCRIPTION:Il dato in stalla\, da solo\, non basta: serve saperlo interpre
 tare e utilizzare. Gli allevamenti bovini da latte producono oggi una quan
 tità di informazioni senza precedenti.\nRobot di mungitura\, pedometri\, s
 istemi di monitoraggio della ruminazione e software gestionali generano fl
 ussi continui di dati su produzione\, fertilità\, salute e comportamento a
 nimale.\nPer molti tecnici e consulenti che operano sul campo\, la traduzi
 one dei dati in decisioni operative e indicazioni concrete da fornire all’
 allevatore rappresenta ancora una sfida.\nIl limite non è la quantità di i
 nformazioni disponibili\, ma la loro qualità\, integrazione e comparabilit
 à. Ne consegue che il potenziale della zootecnia di precisione (PLF) viene
  ancora sfruttato solo in parte.\nIl consulente si trova spesso a lavorare
  con dati eterogenei\, che richiedono tempo per essere interpretati e poss
 ono portare a valutazioni difficilmente confrontabili.\nSu questi temi si 
 concentra il webinar gratuito del 6 maggio 2026 (14:30–16:30)\, organizzat
 o in collaborazione con Dairy Data Warehouse (DDW)\, azienda olandese spec
 ializzata nell’integrazione e armonizzazione dei dati negli allevamenti bo
 vini da latte.\nIntervengono: L’importanza della zootecnia di precisione (
 PLF) e della raccolta dei dati negli allevamenti bovini da latte Daniela L
 ovarelli\, ricercatrice all’Università degli Studi di Milano Strategie per
  trasformare i dati della zootecnia di precisione in informazioni utili An
 drea Galli\, Direttore Scientifico dell’Istituto Spallanzani\, Rivolta d’A
 dda – CR Il futuro dei dati in zootecnia: verso i digital twin Francesco T
 angorra\, Università degli Studi di Milano\, Dipartimento di Medicina Vete
 rinaria e Scienze Animali Dati affidabili: una trasformazione armonizzata 
 e fluida per generare valore lungo la filiera lattiero-casearia Chiuderà F
 ernando Mazeris\, medico veterinario e Managing Director di DDW Modera: Sa
 ra Nicolini\, veterinaria.\nLa partecipazione è gratuita e dà diritto al r
 iconoscimento di Crediti Formativi Professionali CFP per gli Iscritti all’
 Ordine dei Dottori Agronomi e dei Dottori Forestali. https://takethedate.i
 t/agrifood/Eventi/52413-i-potere-dei-dati-e-dellintelligenza-artificiale-n
 ellallevamento-del-bovino-da-latte.html
DTSTART:20260506T123000Z
DTEND:20260506T143000Z
LOCATION:evento online  ()
SUMMARY:I potere dei dati e dell’intelligenza artificiale nell’allevamento 
 del bovino da latte
URL:https://takethedate.it/agrifood/Eventi/52413-i-potere-dei-dati-e-dellin
 telligenza-artificiale-nellallevamento-del-bovino-da-latte.html
END:VEVENT
END:VCALENDAR
