BEGIN:VCALENDAR
VERSION:2.0
PRODID:-//https://takethedate.it///NONSGML kigkonsult.se iCalcreator 2.10.15//
METHOD:PUBLISH
BEGIN:VEVENT
UID:20260423T131454CEST-5107o0cheu@https://takethedate.it/
DTSTAMP:20260423T111454Z
DESCRIPTION:Il 7 maggio 2026\, presso l'Aula Magna dell'Università Ca' Fosc
 ari di Venezia\, sarà presentato il libro 'La filosofia della Dop economy'
  di Mauro Rosati\, edito da Treccani.\nPresso l'Aula Magna dell'Università
  Ca' Foscari di Venezia\, in Ca' Dolfin\, Dorsoduro 3859/A\, alle ore 10.3
 0 del 07 maggio 2026 si terrà la presentazione del volume 'La filosofia de
 lla Dop economy – Come il cibo di qualità può generare cultura\, comunità 
 e futuro' di Mauro Rosati\, edito da Treccani.\nOltre all’autore Mauro Ros
 ati\, interverranno Anna Comacchio\, Christine Mauracher e Patrizio Rovers
 i.\nPROGRAMMA 7 maggio 2026\, ore 10.30 Aula Magna Silvio Trentin – Ca’ Do
 lfin\, Dorsoduro 3859/A\, Venezia Saluti istituzionali Anna Comacchio\, Di
 rettrice Venice School of Management\, Università Ca’ Foscari Venezia Intr
 oduce Christine Mauracher\, Direttrice Agrifood Management & Innovation La
 b – VSM\, Università Ca’ Foscari Venezia Presentazione del libro La filoso
 fia della Dop economy Mauro Rosati\, Direttore Qualivita Discutono con l’A
 utore: Christine Mauracher e Patrizio Roversi\, giornalista. https://taket
 hedate.it/agrifood/Eventi/52133-presentazione-del-libro-la-filosofia-della
 -dop-economy.html
DTSTART:20260507T083000Z
DTEND:20260507T103000Z
LOCATION:Venezia (Venezia VE\, Italia)
SUMMARY:Presentazione del libro 'la filosofia della dop economy'
URL:https://takethedate.it/agrifood/Eventi/52133-presentazione-del-libro-la
 -filosofia-della-dop-economy.html
END:VEVENT
END:VCALENDAR
