BEGIN:VCALENDAR
VERSION:2.0
PRODID:-//https://takethedate.it///NONSGML kigkonsult.se iCalcreator 2.10.15//
METHOD:PUBLISH
BEGIN:VEVENT
UID:20260422T133448CEST-75277iTbHm@https://takethedate.it/
DTSTAMP:20260422T113448Z
DESCRIPTION:Il Laboratorio Chimico Camera di Commercio Torino\, in collabor
 azione con gli Enti del Sistema Camerale aderenti al Portale Etichettatura
  e Sicurezza Prodotti\, organizza un webinar nazionale dedicato al campion
 amento ufficiale e alla controperizia. I prodotti alimentari vengono costa
 ntemente sottoposti al controllo ufficiale da parte di vari enti. Tali ver
 ifiche assicurano che gli alimenti siano conformi alle normative di sicure
 zza sanitaria lungo tutte le fasi di produzione\, trasformazione\, distrib
 uzione e somministrazione. Il campionamento rappresenta uno strumento fond
 amentale per garantire trasparenza\, tracciabilità e validità dei controll
 i\, soprattutto in ambito tecnico\, ambientale e produttivo. Allo stesso t
 empo\, la controperizia costituisce un diritto essenziale per tutelare le 
 parti coinvolte\, assicurando un confronto tecnico indipendente e la verif
 ica dei risultati ottenuti. Il webinar offre una panoramica pratica e aggi
 ornata sulle normative\, le responsabilità e le migliori pratiche legate a
 l campionamento ufficiale e alla controperizia\, fornendo ai professionist
 i gli strumenti necessari per operare in modo consapevole e conforme alle 
 disposizioni.\nLa partecipazione al webinar tramite la piattaforma Teams è
  gratuita previa iscrizione al seguente link: https://www.lab-to.camcom.it
 /eventi/2026/05/06/focuscampionamento-ufficiale/\nAi Tecnologi Alimentari 
 verranno riconosciuti 3 crediti formativi. https://takethedate.it/agrifood
 /Eventi/52056-campionamento-ufficiale-e-controperizia-nel-settore-alimenta
 re.html
DTSTART:20260506T073000Z
DTEND:20260506T100000Z
LOCATION:evento online  ()
SUMMARY:Campionamento ufficiale e controperizia nel settore alimentare
URL:https://takethedate.it/agrifood/Eventi/52056-campionamento-ufficiale-e-
 controperizia-nel-settore-alimentare.html
END:VEVENT
END:VCALENDAR
